BEGIN:VCALENDAR
VERSION:2.0
PRODID:-//Mondo Barca Market - ECPv6.13.2.1//NONSGML v1.0//EN
CALSCALE:GREGORIAN
METHOD:PUBLISH
X-WR-CALNAME:Mondo Barca Market
X-ORIGINAL-URL:https://www.mondobarcamarket.it
X-WR-CALDESC:Eventi per Mondo Barca Market
REFRESH-INTERVAL;VALUE=DURATION:PT1H
X-Robots-Tag:noindex
X-PUBLISHED-TTL:PT1H
BEGIN:VTIMEZONE
TZID:Europe/Rome
BEGIN:DAYLIGHT
TZOFFSETFROM:+0100
TZOFFSETTO:+0200
TZNAME:CEST
DTSTART:20260329T010000
END:DAYLIGHT
BEGIN:STANDARD
TZOFFSETFROM:+0200
TZOFFSETTO:+0100
TZNAME:CET
DTSTART:20261025T010000
END:STANDARD
END:VTIMEZONE
BEGIN:VEVENT
DTSTART;VALUE=DATE:20260129
DTEND;VALUE=DATE:20260201
DTSTAMP:20260421T230329
CREATED:20260109T135849Z
LAST-MODIFIED:20260109T140107Z
UID:52925-1769644800-1769903999@www.mondobarcamarket.it
SUMMARY:India Boat & Marine Show 2026
DESCRIPTION:L’India Boat & Marine Show (IBMS)\, principale fiera indiana dedicata alla nautica\, al trasporto fluviale e alla nautica da diporto\, terrà l’8ª edizione dal 29 al 31 gennaio 2026 presso il Bolgatty Palace Event Centre di Cochin. \nL’evento ha siglato una partnership con IEMA – International Electric Maritime Association\, rafforzando l’attenzione verso soluzioni marittime sostenibili. \nParteciperanno oltre 65 espositori e sono attesi circa 4.000 visitatori business dall’India e dall’estero. \nLa fiera coinvolgerà cantieristica\, motori marini\, sport acquatici e turismo nautico\, con il supporto di istituzioni governative e programmi B2B dedicati alle MSME. \n\n			\n				\n			\n			\n				\n			\n		\n\n  \nThe India Boat & Marine Show (IBMS)\, India’s leading exhibition dedicated to boating\, inland water transportation and leisure marine activities\, will hold its 8th edition from January 29 to 31\, 2026\, at the Bolgatty Palace Event Centre in Cochin. \nThe event has entered into a partnership with IEMA – International Electric Maritime Association\, further strengthening its focus on sustainable maritime solutions. \nMore than 65 exhibitors will participate\, and around 4\,000 business visitors from India and abroad are expected to attend. \nThe exhibition will cover shipbuilding\, marine engines\, water sports and marine tourism\, with the support of government institutions and dedicated B2B programs for MSMEs. \nRegister your visit today:https://www.indiaboatshow.in/visitors-registration-form \n  \n 
URL:https://www.mondobarcamarket.it/salone-nautico/india-boat-marine-show-2026/
LOCATION:Bolgatty Palace Event Centre\, Cochin\, Cochin\, India
ATTACH;FMTTYPE=image/jpeg:https://www.mondobarcamarket.it/wp-content/uploads/2026/01/India-Boat-Marine-Show-2026-logo-evento.jpg
END:VEVENT
END:VCALENDAR