BEGIN:VCALENDAR
VERSION:2.0
PRODID:-//Mondo Barca Market - ECPv6.13.2.1//NONSGML v1.0//EN
CALSCALE:GREGORIAN
METHOD:PUBLISH
X-ORIGINAL-URL:https://www.mondobarcamarket.it
X-WR-CALDESC:Eventi per Mondo Barca Market
REFRESH-INTERVAL;VALUE=DURATION:PT1H
X-Robots-Tag:noindex
X-PUBLISHED-TTL:PT1H
BEGIN:VTIMEZONE
TZID:Europe/Rome
BEGIN:DAYLIGHT
TZOFFSETFROM:+0100
TZOFFSETTO:+0200
TZNAME:CEST
DTSTART:20260329T010000
END:DAYLIGHT
BEGIN:STANDARD
TZOFFSETFROM:+0200
TZOFFSETTO:+0100
TZNAME:CET
DTSTART:20261025T010000
END:STANDARD
END:VTIMEZONE
BEGIN:VEVENT
DTSTART;VALUE=DATE:20260909
DTEND;VALUE=DATE:20260913
DTSTAMP:20260423T215657
CREATED:20260423T141139Z
LAST-MODIFIED:20260423T141323Z
UID:54067-1788912000-1789257599@www.mondobarcamarket.it
SUMMARY:ABOFA 2026
DESCRIPTION:ABOFA 2026 è il primo evento B2B internazionale della regione dedicata a immersioni\, tecnologia marina\, sport acquatici ed economia blu. Ospitato ad Aqaba\, in Giordania\, nel cuore del Mar Rosso\,  l’evento posiziona la città come hub strategico connesso all’area MENA\, favorendo il collegamento tra i diversi Paesi attraverso collaborazione industriale\, investimenti e scambi. \nLA MOSTRA \nL’area espositiva di ABOFA è il cuore pulsante dell’evento\, dove brand internazionali e realtà locali innovative si incontrano per presentare il futuro del mondo delle immersioni e della vita marina. \nB2B \nABOFA rappresenta un importante hub regionale di networking\, mettendo in contatto fornitori internazionali con buyer provenienti dal Medio Oriente e dall’Africa. \nWORKSHOP \nI workshop di ABOFA riuniscono opinion leader\, scienziati e rappresentanti istituzionali per affrontare sfide e opportunità legate alle immersioni e alle tecnologie marine. \nL’evento sarà dal 9-12 settembre 2026 presso il Centro Espositivo Internazionale di Aqaba.
URL:https://www.mondobarcamarket.it/salone-nautico/abofa-2026/
LOCATION:Aqaba\, Giordania
ATTACH;FMTTYPE=image/jpeg:https://www.mondobarcamarket.it/wp-content/uploads/2026/04/abofa-1.jpg
END:VEVENT
END:VCALENDAR